View In:
ArcGIS JavaScript
ArcGIS Online Map Viewer
ArcGIS Earth
Service Description: SU_2033_2050_baltic_crf
Name: SU_2033_2050_baltic_crf
Description:
Single Fused Map Cache: false
Extent:
XMin: 5.040096588134766
YMin: 52.296676940917976
XMax: 37.0500965881346
YMax: 66.9266769409179
Spatial Reference: 4326
(4326)
LatestVCSWkid(0)
Initial Extent:
XMin: 5.040096588134766
YMin: 52.296676940917976
XMax: 37.0500965881346
YMax: 66.9266769409179
Spatial Reference: 4326
(4326)
LatestVCSWkid(0)
Full Extent:
XMin: 5.040096588134766
YMin: 52.296676940917976
XMax: 37.0500965881346
YMax: 66.9266769409179
Spatial Reference: 4326
(4326)
LatestVCSWkid(0)
Time Info:
Start Time Field: StdTime
End Time Field: StdTime
Time Extent:
[2033/07/02 12:00:00 UTC, 2050/07/02 12:00:00 UTC]
Time Reference:
N/A
Pixel Size X: 0.10999999999999943
Pixel Size Y: 0.10999999999999943
Band Count: 1
Pixel Type: F32
RasterFunction Infos: {"rasterFunctionInfos": [{
"name": "None",
"description": "",
"help": ""
}]}
Mensuration Capabilities: Basic
Inspection Capabilities:
Has Histograms: true
Has Colormap: false
Has Multi Dimensions : true
Rendering Rule:
Min Scale: 0
Max Scale: 0
Copyright Text:
Service Data Type: esriImageServiceDataTypeScientific
Min Values: 0
Max Values: 77.94804382324219
Mean Values: 7.517393993928325
Standard Deviation Values: 14.251891599281338
Object ID Field:
Fields:
None
Default Mosaic Method: Center
Allowed Mosaic Methods:
SortField:
SortValue: null
Mosaic Operator: First
Default Compression Quality: 75
Default Resampling Method: Bilinear
Max Record Count: null
Max Image Height: 4100
Max Image Width: 15000
Max Download Image Count: null
Max Mosaic Image Count: null
Allow Raster Function: true
Allow Copy: true
Allow Analysis: true
Allow Compute TiePoints: false
Supports Statistics: false
Supports Advanced Queries: false
Use StandardizedQueries: true
Raster Type Infos:
Name: Raster Dataset
Description: Supports all ArcGIS Raster Datasets
Help:
Has Raster Attribute Table: false
Edit Fields Info: null
Ownership Based AccessControl For Rasters: null
Child Resources:
Info
Histograms
Statistics
Key Properties
Legend
Raster Function Infos
Multidimensional Info
Slices
Supported Operations:
Export Image
Identify
Measure
Compute Histograms
Compute Statistics Histograms
Get Samples
Compute Class Statistics
Query Boundary
Compute Pixel Location
Compute Angles
Validate
Project